BEGIN:VCALENDAR
VERSION:2.0
PRODID:-//Face It Theatre - ECPv6.4.0.1//NONSGML v1.0//EN
CALSCALE:GREGORIAN
METHOD:PUBLISH
X-ORIGINAL-URL:https://face-it-theatre.nl
X-WR-CALDESC:Evenementen voor Face It Theatre
REFRESH-INTERVAL;VALUE=DURATION:PT1H
X-Robots-Tag:noindex
X-PUBLISHED-TTL:PT1H
BEGIN:VTIMEZONE
TZID:UTC
BEGIN:STANDARD
TZOFFSETFROM:+0000
TZOFFSETTO:+0000
TZNAME:UTC
DTSTART:20260101T000000
END:STANDARD
END:VTIMEZONE
BEGIN:VEVENT
DTSTART;TZID=UTC:20260419T160000
DTEND;TZID=UTC:20260419T190000
DTSTAMP:20260425T013526
CREATED:20260420T091041Z
LAST-MODIFIED:20260420T091908Z
UID:2850-1776614400-1776625200@face-it-theatre.nl
SUMMARY:Dubbel P – Playwriting Performance
DESCRIPTION:  \nAbout the Event/WORKSHOP \nNew voices. New stories.\n\nJoin us for a fun matinee showcasing a selection of short plays by wonderful new Amsterdam-based writers\, performed in English. This special afternoon celebrates storytelling and new voices\, each script carefully developed in close collaboration with the Badhuis. \nOver the past months\, these writers have worked with our artistic team\, refining their plays through workshops\, feedback sessions\, and rehearsals with our actors. This hands-on development process has allowed the texts to grow organically from page to stage\, shaped by live performance\, creative exchange\, and experimentation. \nThe result is a programme of contemporary stories brought to life by the fresh ensemble of the Badhuis international. Support emerging writers\, and experience theatre in its most collaborative form. \n\nThe plays: \nHeart by Nori Matrai \nThe Crush by Laura Durnford \nPleiades by Morag McLean \nNothing is Settled Until Everything is Settled by Penny Jackson
URL:https://face-it-theatre.nl/event/dubbel-p-playwriting-performance/
CATEGORIES:Amsterdam
ATTACH;FMTTYPE=image/jpeg:https://face-it-theatre.nl/wp-content/uploads/2026/04/43281d0e-4724-4464-b7ae-8ef3d1a16b451771514301-019c767b-0e0d-7109-bd7b-ea85dd3e17e8-1536x864-1.jpg
END:VEVENT
END:VCALENDAR