BEGIN:VCALENDAR
VERSION:2.0
PRODID:-//Face It Theatre - ECPv6.4.0.1//NONSGML v1.0//EN
CALSCALE:GREGORIAN
METHOD:PUBLISH
X-ORIGINAL-URL:https://face-it-theatre.nl
X-WR-CALDESC:Evenementen voor Face It Theatre
REFRESH-INTERVAL;VALUE=DURATION:PT1H
X-Robots-Tag:noindex
X-PUBLISHED-TTL:PT1H
BEGIN:VTIMEZONE
TZID:UTC
BEGIN:STANDARD
TZOFFSETFROM:+0000
TZOFFSETTO:+0000
TZNAME:UTC
DTSTART:20260101T000000
END:STANDARD
END:VTIMEZONE
BEGIN:VEVENT
DTSTART;TZID=UTC:20260522T190000
DTEND;TZID=UTC:20260522T220000
DTSTAMP:20260425T132428
CREATED:20260226T162328Z
LAST-MODIFIED:20260420T093310Z
UID:2818-1779476400-1779487200@face-it-theatre.nl
SUMMARY:The Real Lady Macbeth  by Stuart Delves
DESCRIPTION:The Real Lady Macbeth is an EYT+ show. \nEYT+ is English Youth Theatre’s excellence program\, where our most promising young performers get the chance to take theatre more seriously with longer rehearsals\, learning new skills and techniques\, and taking on more challenging work. The standards we set are high\, and all participatants had to audition to get a role. \n\n\nAMSTERDAM \n22-25 May 2026 (Exact date TBC) \nHet Badhuistheater alias Mike’s Badhuistheater Amsterdam \nBoerhaaveplein 28 \n1091 AT Amsterdam
URL:https://face-it-theatre.nl/event/the-real-lady-macbeth-by-stuart-delves/
LOCATION:Mikes’s Badhuistheater Amsterdam\, boerhaaveplein 28\, amsterdam\, Netherlands
CATEGORIES:Brussels,Homepage
ATTACH;FMTTYPE=image/jpeg:https://face-it-theatre.nl/wp-content/uploads/2026/02/rlsg.jpg
ORGANIZER;CN="Mike's Badhuistheater":MAILTO:badhuistheater@gmail.com
END:VEVENT
BEGIN:VEVENT
DTSTART;TZID=UTC:20260922T193000
DTEND;TZID=UTC:20260922T230000
DTSTAMP:20260425T132428
CREATED:20260304T110133Z
LAST-MODIFIED:20260420T092746Z
UID:2828-1790105400-1790118000@face-it-theatre.nl
SUMMARY:Respect/Velvet Debate Workshop
DESCRIPTION:Through theatre\, guest speakers\, and collaborative group sessions\, we’re going to explore questions like: \n\n– What does respect mean to you?\n– What’s missing in the way we currently communicate with one another?\n– How can we better connect with community?\n\nSo join international students\, local thinkers\, and curious minds for an afternoon of theatre\, debate\, and group conversation that might just change how you see the world. \nPlus creative workshop at the end!;) \n  \n\nDon’t just watch the news — join the conversation. \n 
URL:https://face-it-theatre.nl/event/respect-debate-workshop/
LOCATION:Mikes’s Badhuistheater Amsterdam\, boerhaaveplein 28\, amsterdam\, Netherlands
CATEGORIES:Amsterdam
ATTACH;FMTTYPE=image/jpeg:https://face-it-theatre.nl/wp-content/uploads/2026/03/vd_plain-scaled.jpg
END:VEVENT
END:VCALENDAR