BEGIN:VCALENDAR
VERSION:2.0
PRODID:-//Face It Theatre - ECPv6.4.0.1//NONSGML v1.0//EN
CALSCALE:GREGORIAN
METHOD:PUBLISH
X-WR-CALNAME:Face It Theatre
X-ORIGINAL-URL:https://face-it-theatre.nl
X-WR-CALDESC:Evenementen voor Face It Theatre
REFRESH-INTERVAL;VALUE=DURATION:PT1H
X-Robots-Tag:noindex
X-PUBLISHED-TTL:PT1H
BEGIN:VTIMEZONE
TZID:UTC
BEGIN:STANDARD
TZOFFSETFROM:+0000
TZOFFSETTO:+0000
TZNAME:UTC
DTSTART:20240101T000000
END:STANDARD
END:VTIMEZONE
BEGIN:VEVENT
DTSTART;TZID=UTC:20240706T200000
DTEND;TZID=UTC:20240706T233000
DTSTAMP:20260425T162013
CREATED:20240606T150500Z
LAST-MODIFIED:20240606T153721Z
UID:2455-1720296000-1720308600@face-it-theatre.nl
SUMMARY:The BALD PRIMADONNA by Ionesco
DESCRIPTION:Event date(s): \n06 / 07 / 2024 – 20:00\n07 / 07 / 2024 – 16:00\n\n\nLET is back once again with ‘The Bald Prima Donna’. Eugène Ionesco’s masterpiece is an absurd comedic portrayal of domestic routines\, it’s about the surreal and the mystery of everyday life and ordinary individuals. A charming cartoon about life’s illusions and the emptiness of being. \nLET is weer terug met ‘The Bald Primadonna’. Het stuk van Eugène Ionesco is een absurde en komische weergave van de dagelijkse sleur\, het gaat over het surrealistische mysterie van het dagelijks leven en gewone mensen. Een stuk over de illusies van het leven en de leegte van het ‘zijn’. \nhttps://badhuistheater.weticket.com/ \n\n \n  \nFor more info about LET theater here is shortcut of pass performances such as “The Trial”: \n \nand “THE SEAGULL”: \n \n\n 
URL:https://face-it-theatre.nl/event/the-bald-primadonna-by-ionesco/
CATEGORIES:Amsterdam
ATTACH;FMTTYPE=image/jpeg:https://face-it-theatre.nl/wp-content/uploads/2024/06/JULY6-7donna.jpg
END:VEVENT
BEGIN:VEVENT
DTSTART;TZID=UTC:20240706T080000
DTEND;TZID=UTC:20240714T170000
DTSTAMP:20260425T162013
CREATED:20240617T102217Z
LAST-MODIFIED:20240617T102217Z
UID:2495-1720252800-1720976400@face-it-theatre.nl
SUMMARY:Norway Visit - Erasmus+ Exchange
DESCRIPTION:Our visit to Tynset\, Norway is fast approaching! \nAs well as our usual curriculum of theatre performance and skill building\, EYT also offers International Exchange Programs with other youth theatre groups during the holidays. In 2023\, we welcomed a group from Tynset\, Norway\, to Brussels\, and led a one-week theatre workshop building skills in improvisational theatre and character-building\, as well as learning about each other’s cultures through exploring Belgium\, playing games and hosting activities together.In July 2024\, along with Teater i Fjellregionen\, we will be making the return trip to Tynset. Look out for reports here.
URL:https://face-it-theatre.nl/event/norway-visit-erasmus-exchange/
LOCATION:Tynset\, Tynset\, Noorwegen
CATEGORIES:Brussels
END:VEVENT
BEGIN:VEVENT
DTSTART;TZID=UTC:20240702T200000
DTEND;TZID=UTC:20240702T233000
DTSTAMP:20260425T162013
CREATED:20240606T150002Z
LAST-MODIFIED:20240606T150002Z
UID:2451-1719950400-1719963000@face-it-theatre.nl
SUMMARY:Tag Out ‘Goodbye Party’ FINAL SHOW
DESCRIPTION:Event date(s): \n02 / 07 / 2024 – 20:00\n\n\nTAG OUT IMPRO PARTY  \nTickets :    https://badhuistheater.weticket.io/tag-out-2nd-july-2000 \nDearest improv friends\, we’ve had an incredible 8+ years putting on over a hundred shows\, dozens of jams and three marathons featuring the best of Amsterdams talent. For now\, we are going to take a break\, but not without one last goodbye!\nSo\, mark our calendars for an epic “farewell fest”on Tuesday the 2nd of July at our favorite venue Mike’s Badhuisteater.
URL:https://face-it-theatre.nl/event/tag-out-goodbye-party-final-show/
CATEGORIES:Amsterdam
ATTACH;FMTTYPE=image/jpeg:https://face-it-theatre.nl/wp-content/uploads/2024/06/JULY2finalshowtg.jpg
END:VEVENT
BEGIN:VEVENT
DTSTART;TZID=UTC:20240630T140000
DTEND;TZID=UTC:20240630T180000
DTSTAMP:20260425T162013
CREATED:20240606T153005Z
LAST-MODIFIED:20240606T153005Z
UID:2474-1719756000-1719770400@face-it-theatre.nl
SUMMARY:The day they Kidnapped the Pope by Inplayers
DESCRIPTION:Event date(s): \n27 / 06 / 2024 – 20:00\n28 / 06 / 2024 – 20:00\n29 / 06 / 2024 – 20:00\n30 / 06 / 2024 – 14:00\n\n\nTickets :  \nhttps://badhuistheater.weticket.com/the-day-they-kidnapped-the-pop \nSynopsis of the Play \nOn a visit to New York\, the Pope decides to swap his personal limousine for a taxi\, without notifying his security detail. This humble decision evolves into an unexpected turn of events. he Pope finds himself hostage in the home of Jewish taxi driver Samuel Leibowitz\, demanding a very special ransom: One Day of World Peace. This act has a major impact on the Pope\, Samuel\, his family and\, in fact\, the world. Chaos\, misunderstandings\, wild schemes\, and unexpected alliances are played out in this humorous and heartwarming play\, filled with witty dialogue\, clever plot twists\, and a touch of satire and politics. \n\n \n  \nHere is video shortcut of Inplayers performing the “MURDER AND OTHER FUN THINGS”:
URL:https://face-it-theatre.nl/event/the-day-they-kidnapped-the-pope-by-inplayers-3/
CATEGORIES:Amsterdam
ATTACH;FMTTYPE=image/png:https://face-it-theatre.nl/wp-content/uploads/2024/06/JUNE2730pope.png
END:VEVENT
BEGIN:VEVENT
DTSTART;TZID=UTC:20240629T200000
DTEND;TZID=UTC:20240629T233000
DTSTAMP:20260425T162013
CREATED:20240606T152818Z
LAST-MODIFIED:20240606T152818Z
UID:2472-1719691200-1719703800@face-it-theatre.nl
SUMMARY:The day they Kidnapped the Pope by Inplayers
DESCRIPTION:Event date(s): \n27 / 06 / 2024 – 20:00\n28 / 06 / 2024 – 20:00\n29 / 06 / 2024 – 20:00\n30 / 06 / 2024 – 14:00\n\n\nTickets :  \nhttps://badhuistheater.weticket.com/the-day-they-kidnapped-the-pop \nSynopsis of the Play \nOn a visit to New York\, the Pope decides to swap his personal limousine for a taxi\, without notifying his security detail. This humble decision evolves into an unexpected turn of events. he Pope finds himself hostage in the home of Jewish taxi driver Samuel Leibowitz\, demanding a very special ransom: One Day of World Peace. This act has a major impact on the Pope\, Samuel\, his family and\, in fact\, the world. Chaos\, misunderstandings\, wild schemes\, and unexpected alliances are played out in this humorous and heartwarming play\, filled with witty dialogue\, clever plot twists\, and a touch of satire and politics. \n\n \n  \nHere is video shortcut of Inplayers performing the “MURDER AND OTHER FUN THINGS”:
URL:https://face-it-theatre.nl/event/the-day-they-kidnapped-the-pope-by-inplayers-2/
CATEGORIES:Amsterdam
ATTACH;FMTTYPE=image/png:https://face-it-theatre.nl/wp-content/uploads/2024/06/JUNE2730pope.png
END:VEVENT
BEGIN:VEVENT
DTSTART;TZID=UTC:20240628T200000
DTEND;TZID=UTC:20240628T233000
DTSTAMP:20260425T162013
CREATED:20240606T152703Z
LAST-MODIFIED:20240606T152703Z
UID:2470-1719604800-1719617400@face-it-theatre.nl
SUMMARY:The day they Kidnapped the Pope by Inplayers
DESCRIPTION:Event date(s): \n27 / 06 / 2024 – 20:00\n28 / 06 / 2024 – 20:00\n29 / 06 / 2024 – 20:00\n30 / 06 / 2024 – 14:00\n\n\nTickets :  \nhttps://badhuistheater.weticket.com/the-day-they-kidnapped-the-pop \nSynopsis of the Play \nOn a visit to New York\, the Pope decides to swap his personal limousine for a taxi\, without notifying his security detail. This humble decision evolves into an unexpected turn of events. he Pope finds himself hostage in the home of Jewish taxi driver Samuel Leibowitz\, demanding a very special ransom: One Day of World Peace. This act has a major impact on the Pope\, Samuel\, his family and\, in fact\, the world. Chaos\, misunderstandings\, wild schemes\, and unexpected alliances are played out in this humorous and heartwarming play\, filled with witty dialogue\, clever plot twists\, and a touch of satire and politics. \n\n \n  \nHere is video shortcut of Inplayers performing the “MURDER AND OTHER FUN THINGS”:
URL:https://face-it-theatre.nl/event/the-day-they-kidnapped-the-pope-by-inplayers/
CATEGORIES:Amsterdam
ATTACH;FMTTYPE=image/png:https://face-it-theatre.nl/wp-content/uploads/2024/06/JUNE2730pope.png
END:VEVENT
BEGIN:VEVENT
DTSTART;TZID=UTC:20240627T200000
DTEND;TZID=UTC:20240627T230000
DTSTAMP:20260425T162013
CREATED:20240606T145617Z
LAST-MODIFIED:20240606T152309Z
UID:2447-1719518400-1719529200@face-it-theatre.nl
SUMMARY:The day they Kidnapped the Pope  by Inplayers
DESCRIPTION:Event date(s): \n27 / 06 / 2024 – 20:00\n28 / 06 / 2024 – 20:00\n29 / 06 / 2024 – 20:00\n30 / 06 / 2024 – 14:00\n\n\nTickets :  \nhttps://badhuistheater.weticket.com/the-day-they-kidnapped-the-pop \nSynopsis of the Play \nOn a visit to New York\, the Pope decides to swap his personal limousine for a taxi\, without notifying his security detail. This humble decision evolves into an unexpected turn of events. he Pope finds himself hostage in the home of Jewish taxi driver Samuel Leibowitz\, demanding a very special ransom: One Day of World Peace. This act has a major impact on the Pope\, Samuel\, his family and\, in fact\, the world. Chaos\, misunderstandings\, wild schemes\, and unexpected alliances are played out in this humorous and heartwarming play\, filled with witty dialogue\, clever plot twists\, and a touch of satire and politics. \n\n \n  \nHere is video shortcut of Inplayers performing the “MURDER AND OTHER FUN THINGS”:
URL:https://face-it-theatre.nl/event/the-day-they-kidnapped-the-pope/
CATEGORIES:Amsterdam
ATTACH;FMTTYPE=image/png:https://face-it-theatre.nl/wp-content/uploads/2024/06/JUNE2730pope.png
END:VEVENT
BEGIN:VEVENT
DTSTART;TZID=UTC:20240622T203000
DTEND;TZID=UTC:20240622T233000
DTSTAMP:20260425T162013
CREATED:20240606T153340Z
LAST-MODIFIED:20240606T153411Z
UID:2478-1719088200-1719099000@face-it-theatre.nl
SUMMARY:VENUS IN FUR
DESCRIPTION:Event date(s): \n22 / 06 / 2024 – 3.30pm\n22 / 06 / 2024 – 8.15pm\n\nThe GODOT / ENDGAME Gang ( NOORDHAUS@ SOLSTICE) are BACK on 22 june at 3.30pm and 8.15pm with the Compelling David Ives DRAMA “VENUS in FUR “\nTickets :  3.30pm and 8.15     \n link for Evening  8:15pm: \nhttps://badhuistheater.weticket.io/venus-in-fur-evening-show \nMatinee Link for 3:30pm:\n \nhttps://badhuistheater.weticket.com/venus-in-fur-by-david-ives-22- \nTHE PLOT :  \nThomas Novachek is the writer-director of a new play\,  an adaptation of the historic  novel Venus in Furs by  Sacher-Masoch ( who inspired the term “masochism“). The play begins with the Director on the telephone complaining  about the  auditions and  the actresses of that day . Suddenly\, at the last minute\, a new actress\, Vanda  bursts in. At first it’s hard to imagine how she can interest  the director: She’s bad mannered  and low classed . But she convinces the directore  to let her audition  and the director will read in the other male character . Much happens during this dynamic reading\, as lightning flashes and thunder crashes outside. The actress  shows astonishing insights into the story and her character\, and  performs a terrific audition. The subject of the play is sexual domination and submission. As the audition continues Vanda attacks the script as sexist\,  pornography. Thomas at first defends it as a faithful adaptation of a literary classic about passion and desire. Vanda accuses Thomas of having his own masochistic fantasies\, which he denies. However\, as the story  develops\, he increasingly identifies with the masochistic male lead in the play. By the end  he has become Vanda’s slave. \nRoman Polanski made a 2013 French-language erotic drama film  based on the play  by American playwright David Ives \n  \n \n  \nHere is video shortcut from the END GAME: \n \nAnd here from the WAITING FOR GODOT:\n \n  \n 
URL:https://face-it-theatre.nl/event/2478/
CATEGORIES:Amsterdam
ATTACH;FMTTYPE=image/png:https://face-it-theatre.nl/wp-content/uploads/2024/06/JUNE22_venus.png
END:VEVENT
BEGIN:VEVENT
DTSTART;TZID=UTC:20240622T153000
DTEND;TZID=UTC:20240622T180000
DTSTAMP:20260425T162013
CREATED:20240606T145054Z
LAST-MODIFIED:20240606T153208Z
UID:2442-1719070200-1719079200@face-it-theatre.nl
SUMMARY:VENUS in FUR
DESCRIPTION:Event date(s): \n22 / 06 / 2024 – 3.30pm\n22 / 06 / 2024 – 8.15pm\n\nThe GODOT / ENDGAME Gang ( NOORDHAUS@ SOLSTICE) are BACK on 22 june at 3.30pm and 8.15pm with the Compelling David Ives DRAMA “VENUS in FUR “\nTickets :  3.30pm and 8.15     \n link for Evening  8:15pm: \nhttps://badhuistheater.weticket.io/venus-in-fur-evening-show \nMatinee Link for 3:30pm:\n \nhttps://badhuistheater.weticket.com/venus-in-fur-by-david-ives-22- \nTHE PLOT :  \nThomas Novachek is the writer-director of a new play\,  an adaptation of the historic  novel Venus in Furs by  Sacher-Masoch ( who inspired the term “masochism“). The play begins with the Director on the telephone complaining  about the  auditions and  the actresses of that day . Suddenly\, at the last minute\, a new actress\, Vanda  bursts in. At first it’s hard to imagine how she can interest  the director: She’s bad mannered  and low classed . But she convinces the directore  to let her audition  and the director will read in the other male character . Much happens during this dynamic reading\, as lightning flashes and thunder crashes outside. The actress  shows astonishing insights into the story and her character\, and  performs a terrific audition. The subject of the play is sexual domination and submission. As the audition continues Vanda attacks the script as sexist\,  pornography. Thomas at first defends it as a faithful adaptation of a literary classic about passion and desire. Vanda accuses Thomas of having his own masochistic fantasies\, which he denies. However\, as the story  develops\, he increasingly identifies with the masochistic male lead in the play. By the end  he has become Vanda’s slave. \nRoman Polanski made a 2013 French-language erotic drama film  based on the play  by American playwright David Ives \n  \n \n  \nHere is video shortcut from the END GAME: \n \nAnd here from the WAITING FOR GODOT:\n \n  \n 
URL:https://face-it-theatre.nl/event/venus-in-fur-2-shows-on-22-june-2024/
CATEGORIES:Amsterdam
ATTACH;FMTTYPE=image/png:https://face-it-theatre.nl/wp-content/uploads/2024/06/JUNE22_venus.png
END:VEVENT
BEGIN:VEVENT
DTSTART;TZID=UTC:20240531T200000
DTEND;TZID=UTC:20240601T220000
DTSTAMP:20260425T162013
CREATED:20240430T164501Z
LAST-MODIFIED:20240516T113212Z
UID:2298-1717185600-1717279200@face-it-theatre.nl
SUMMARY:Performances of New One act Plays  31 May @ 1 June with DownstageLeft
DESCRIPTION:This is the 3rd version we have made. Brand new One Act Plays. \nAnd it will be sold Out . 5 New short Plays with DOWNSTAGE LEFT and Denis Burke . \nEach time its a Sold Out Night . People are excited to see and perceive NEW work. \nOn August 1 2024\, we will issue a call for applications to participate in a NEW project. \nFROM PAGE TO STAGE.  \nWe are training young potential Playwrights to develop their own new Plays . \nIt will be a special workshop \, combining writing and acting Trainings \nTraining Young  playwrights and Youth from the diverse backgrounds that live and surround our Theater.  An application form will be shared from the Badhuis website\, via our social media channels\, newsletters to ensure that the call for applications reaches a wide audience. We will ensure that the application opportunity is advertised widely\, including through our thoroughly international networks so we  can bring it to the attention of Dutch people with diverse backgrounds\,  \n  \n 
URL:https://face-it-theatre.nl/event/performances-of-new-one-act-plays-31-may-1-june-with-downstageleft/
LOCATION:Badhuistheater\, Boerhaaveplein\, Amsterdam\, 1091 AT\, Nederland
CATEGORIES:Amsterdam,Homepage
ATTACH;FMTTYPE=image/jpeg:https://face-it-theatre.nl/wp-content/uploads/2024/05/440408575_934406862026809_3278135597246738280_n.jpg
ORGANIZER;CN="Mike's Badhuistheater":MAILTO:badhuistheater@gmail.com
END:VEVENT
BEGIN:VEVENT
DTSTART;VALUE=DATE:20240525
DTEND;VALUE=DATE:20240526
DTSTAMP:20260425T162013
CREATED:20240317T170722Z
LAST-MODIFIED:20240516T120338Z
UID:2183-1716595200-1716681599@face-it-theatre.nl
SUMMARY:Coming on May 25th: exchange with EYT Brussels William Golding\, 'Lord of the Flies' in the Badhuistheater.
DESCRIPTION:Lord of the Flies\, by William Golding \n\nAdapated for the stage by Nigel Williams \nDirected by Glenn Vaughan \nA plane carrying a group of school children crash lands on a deserted island. With no adult survivors\, the kids are forced to fend for themselves. At first they cooperate\, but when they split into two separate camps\, their society falls into disarray\, leading to a disturbing examination of human nature and a chilling conclusion. \nThe cast ( 17 till 22 years)  of 14 was selected from 37 auditionees\, and specifically chosen for their work ethic\, commitment\, ability to work in a team and acting ability. Some of the actors are EYT veterans who’ve gathered lots of experience\, and others are in their first year at EYT but have shown great promise and performance skills!
URL:https://face-it-theatre.nl/event/coming-on-may-25th-exchange-with-eyt-brussels-william-golding-lord-of-the-flies-in-the-badhuistheater/
CATEGORIES:Amsterdam,Brussels,Homepage
ATTACH;FMTTYPE=image/jpeg:https://face-it-theatre.nl/wp-content/uploads/2024/03/LOTF-Poster-Design-SMALL.jpg
END:VEVENT
BEGIN:VEVENT
DTSTART;TZID=UTC:20240505T200000
DTEND;TZID=UTC:20240505T220000
DTSTAMP:20260425T162013
CREATED:20240317T170504Z
LAST-MODIFIED:20240516T104236Z
UID:2180-1714939200-1714946400@face-it-theatre.nl
SUMMARY:May 5th: 'More War'
DESCRIPTION:On May the 5th\, it is Liberation Day in the Netherlands\,  BadhuisInternational performed their open air show ‘More War’. An Absurd Satire with Music and dance .Combining  theater with a space for a discussion about freedom & democracy on this special  liberation day for the Dutch \,after the years of  fascist occupation 80 years ago. \n‘More War’ will be performed on the theater terrace of the Badhuistheater. Cafe owner Rene from the series ‘Allo Allo’ finds himself in 2024. The second world war has just finished\, but the third world war is on the brink of starting.. This cross-over show between the bizarre world of the famous series mixes the bizarre world we are currently living in. A satirical musical comedy. During the show there will also be musical performances.\nBadhuistheater holds  weekly workshops with new young Teachers
URL:https://face-it-theatre.nl/event/may-5th-more-war/
CATEGORIES:Amsterdam,Homepage
ATTACH;FMTTYPE=image/jpeg:https://face-it-theatre.nl/wp-content/uploads/2024/05/IMG_3248.jpg
END:VEVENT
BEGIN:VEVENT
DTSTART;TZID=UTC:20240203T080000
DTEND;TZID=UTC:20240204T170000
DTSTAMP:20260425T162013
CREATED:20240617T104548Z
LAST-MODIFIED:20240617T104548Z
UID:2499-1706947200-1707066000@face-it-theatre.nl
SUMMARY:EYT Festival 2024
DESCRIPTION:On the 3rd and 4th of February 2024\, our 90+ Senior students from Brussels\, Antwerp and Waterloo each performed an individual one-act show as part of the EYT Festival! We had an audience of over 250 each night\, and 8 plays were performed by our talented group of Senior students! Our judges then gave detailed feedback to each group on the things they did well and the things they could improve.At the end of the week-end\, awards were handed out for Best Performance\, Best Supporting Performance\, and the 1st\, 2nd and 3rd Best Plays. When the winner was announced\, the house erupted! We’re already looking forward to the 2025 edition!
URL:https://face-it-theatre.nl/event/eyt-festival-2024/
END:VEVENT
END:VCALENDAR