BEGIN:VCALENDAR
VERSION:2.0
PRODID:-//Face It Theatre - ECPv6.4.0.1//NONSGML v1.0//EN
CALSCALE:GREGORIAN
METHOD:PUBLISH
X-WR-CALNAME:Face It Theatre
X-ORIGINAL-URL:https://face-it-theatre.nl
X-WR-CALDESC:Evenementen voor Face It Theatre
REFRESH-INTERVAL;VALUE=DURATION:PT1H
X-Robots-Tag:noindex
X-PUBLISHED-TTL:PT1H
BEGIN:VTIMEZONE
TZID:UTC
BEGIN:STANDARD
TZOFFSETFROM:+0000
TZOFFSETTO:+0000
TZNAME:UTC
DTSTART:20260101T000000
END:STANDARD
END:VTIMEZONE
BEGIN:VEVENT
DTSTART;TZID=UTC:20260208T200000
DTEND;TZID=UTC:20260208T230000
DTSTAMP:20260425T030248
CREATED:20260128T150047Z
LAST-MODIFIED:20260226T161854Z
UID:2787-1770580800-1770591600@face-it-theatre.nl
SUMMARY:EYT FEST 26
DESCRIPTION:EYT FEST 26 \n​ \nOn the 6th\, 7th and 8th of February 2026\, our 120+ Senior students from Brussels and Antwerp will each perform an individual one-act show as part of EYT FEST 26! Our students will return to the beautiful Espace Lumen theatre in Ixelles\, where the 2nd and 3rd editions of EYT FEST took place!This year\, we are celebrating 5 years of EYT FEST! \n\nFor more info see
URL:https://face-it-theatre.nl/event/eyt-fest-26/
CATEGORIES:Brussels
ATTACH;FMTTYPE=image/jpeg:https://face-it-theatre.nl/wp-content/uploads/2026/01/e2.jpg
END:VEVENT
BEGIN:VEVENT
DTSTART;TZID=UTC:20260212T200000
DTEND;TZID=UTC:20260212T230000
DTSTAMP:20260425T030248
CREATED:20260110T152526Z
LAST-MODIFIED:20260110T152817Z
UID:2653-1770926400-1770937200@face-it-theatre.nl
SUMMARY:Accidental Death of an Anarchist
DESCRIPTION:Accidental Death of an Anarchist\nFrom Berlin: The Ernst Busch Academy of Dramatic Arts\, directed by Kaspar Wachinger \n\nWe’ve dusted off Dario Fo’s Accidental Death of an Anarchist and dropped it smack into Berlin 2025. It starts with a death in police custody and unravels into an interrogation room circus where a chameleon intruder impersonates officials\, forces reenactments\, and teases out contradictory statements. The outrageous excuses you hear on stage are ripped straight from the headlines. \nPolice violence is a universal and international problem\, and the only way to confront it is head on. So yes\, there are laughs\, tons of them\, because humor is one of the best coping mechanisms humans have ever invented. Join us as we unmask the farce\, expose the lies\, and dare to demand accountability\, one belly laugh at a time. \nFeaturing David Kammerer\, Luise Winter\, and Simon Seifert | Played in English | Set in Modern Day Berlin \n\nTICKETS: \nhttps://badhuistheater.weticket.io/accidental-death-of-an-anarchist/timeslots \n 
URL:https://face-it-theatre.nl/event/accidental-death-of-an-anarchist/
LOCATION:Mikes’s Badhuistheater Amsterdam\, boerhaaveplein 28\, amsterdam\, Netherlands
ORGANIZER;CN="Mike's Badhuistheater":MAILTO:badhuistheater@gmail.com
END:VEVENT
BEGIN:VEVENT
DTSTART;TZID=UTC:20260212T200000
DTEND;TZID=UTC:20260212T230000
DTSTAMP:20260425T030248
CREATED:20260110T155240Z
LAST-MODIFIED:20260110T155325Z
UID:2665-1770926400-1770937200@face-it-theatre.nl
SUMMARY:Accidental Death of an Anarchist
DESCRIPTION:Artboard 1\n\nAccidental Death of an Anarchist\nFrom Berlin: The Ernst Busch Academy of Dramatic Arts\, directed by Kaspar Wachinger \n\nWe’ve dusted off Dario Fo’s Accidental Death of an Anarchist and dropped it smack into Berlin 2025. It starts with a death in police custody and unravels into an interrogation room circus where a chameleon intruder impersonates officials\, forces reenactments\, and teases out contradictory statements. The outrageous excuses you hear on stage are ripped straight from the headlines. \nPolice violence is a universal and international problem\, and the only way to confront it is head on. So yes\, there are laughs\, tons of them\, because humor is one of the best coping mechanisms humans have ever invented. Join us as we unmask the farce\, expose the lies\, and dare to demand accountability\, one belly laugh at a time. \nFeaturing David Kammerer\, Luise Winter\, and Simon Seifert | Played in English | Set in Modern Day Berlin \n\nTICKETS \nhttps://badhuistheater.weticket.io/accidental-death-of-an-anarchist
URL:https://face-it-theatre.nl/event/accidental-death-of-an-anarchist-3/
LOCATION:Mikes’s Badhuistheater Amsterdam\, boerhaaveplein 28\, amsterdam\, Netherlands
CATEGORIES:Amsterdam
ATTACH;FMTTYPE=image/jpeg:https://face-it-theatre.nl/wp-content/uploads/2026/01/FinalPlakatAnarchist-1-scaled-1-1086x1536-1.jpg
ORGANIZER;CN="Mike's Badhuistheater":MAILTO:badhuistheater@gmail.com
END:VEVENT
BEGIN:VEVENT
DTSTART;TZID=UTC:20260219T200000
DTEND;TZID=UTC:20260219T233000
DTSTAMP:20260425T030248
CREATED:20260127T130013Z
LAST-MODIFIED:20260226T161839Z
UID:2757-1771531200-1771543800@face-it-theatre.nl
SUMMARY:February shows
DESCRIPTION:  \nHere are some highlights of the February shows at Mike’s BAdhuistheater Amsterdam and GREAT NEWS for STUDENTS who can get 50%Off check the tickets link here
URL:https://face-it-theatre.nl/event/february-shows/
CATEGORIES:Amsterdam
ATTACH;FMTTYPE=image/jpeg:https://face-it-theatre.nl/wp-content/uploads/2026/01/discount.jpg
END:VEVENT
END:VCALENDAR